BEGIN:VCALENDAR
VERSION:2.0
PRODID:-//Visit Pihtipudas - ECPv6.3.7//NONSGML v1.0//EN
CALSCALE:GREGORIAN
METHOD:PUBLISH
X-WR-CALNAME:Visit Pihtipudas
X-ORIGINAL-URL:https://visitpihtipudas.fi
X-WR-CALDESC:Tapahtumat Visit Pihtipudas
REFRESH-INTERVAL;VALUE=DURATION:PT1H
X-Robots-Tag:noindex
X-PUBLISHED-TTL:PT1H
BEGIN:VTIMEZONE
TZID:Europe/Helsinki
BEGIN:DAYLIGHT
TZOFFSETFROM:+0200
TZOFFSETTO:+0300
TZNAME:EEST
DTSTART:20260329T010000
END:DAYLIGHT
BEGIN:STANDARD
TZOFFSETFROM:+0300
TZOFFSETTO:+0200
TZNAME:EET
DTSTART:20261025T010000
END:STANDARD
END:VTIMEZONE
BEGIN:VEVENT
DTSTART;TZID=Europe/Helsinki:20260423T130000
DTEND;TZID=Europe/Helsinki:20260423T150000
DTSTAMP:20260423T013650
CREATED:20260206T122111Z
LAST-MODIFIED:20260206T122111Z
UID:14793-1776949200-1776956400@visitpihtipudas.fi
SUMMARY:Vertaistukitapaaminen
DESCRIPTION:Pihtiputaan Diabetesyhdistys järjestää vertaistukitapaamisen diabeetikoille ja heidän läheisille\, jotka haluavat tulla juttelemaan aiheen ympäriltä ja saada vertaistukea. Aika 23.04 klo 13.00 alkaen Muurasjärven Eläketalon kerhohuoneessa\, Toukolantie 7.\nKahvitarjoilu.\nTervetuloa !
URL:https://visitpihtipudas.fi/tapahtuma/vertaistukitapaaminen-11/
LOCATION:Muurasjärven eläketalo\, Toukolantie 7\, Muurasjärvi\, 44880
CATEGORIES:Tapahtuma
ATTACH;FMTTYPE=image/jpeg:https://visitpihtipudas.fi/wp-content/uploads/2026/02/vertaistukikuvat-002.jpg
END:VEVENT
BEGIN:VEVENT
DTSTART;TZID=Europe/Helsinki:20260423T160000
DTEND;TZID=Europe/Helsinki:20260423T190000
DTSTAMP:20260423T013650
CREATED:20260304T131604Z
LAST-MODIFIED:20260304T131604Z
UID:15349-1776960000-1776970800@visitpihtipudas.fi
SUMMARY:Opiston tapahtumaviikot: Seikkaillen temppuradalla ja Keskivartalo kuntoon
DESCRIPTION:Pihtiputaan ja Viitasaaren kansalaisopiston ilmaiset tapahtumaviikot! Tule kokeilemaan! Paikkana Putaanvirran sali. \nTo 23.4. \nKlo 16-18 Seikkaillen temppuradalla= avoin temppurata lapsille ja vanhemmille\, jossa voi olla koko ajan tai tulla vain osaksi aikaa missä vaiheessa vaan. Opettajana Emma Hiironen. \nKlo 18-19 Keskivartalo kuntoon. Opettajana Emma Hiironen.
URL:https://visitpihtipudas.fi/tapahtuma/opiston-tapahtumaviikot-seikkaillen-temppuradalla-ja-keskivartalo-kuntoon/
LOCATION:Putaanvirran sali\, Koulutie 4\, Pihtipudas\, 44800
CATEGORIES:Tapahtuma
END:VEVENT
BEGIN:VEVENT
DTSTART;TZID=Europe/Helsinki:20260423T170000
DTEND;TZID=Europe/Helsinki:20260423T190000
DTSTAMP:20260423T013650
CREATED:20260420T124800Z
LAST-MODIFIED:20260420T124800Z
UID:16786-1776963600-1776970800@visitpihtipudas.fi
SUMMARY:Parasta Puttaalla-viikon suunnittelupalaveri
DESCRIPTION:Suunnitellaan yhdessä tapahtumaviikon aikataulut kohdilleen ja katsotaan kokonaisuus kuntoon.
URL:https://visitpihtipudas.fi/tapahtuma/parasta-puttaalla-viikon-suunnittelupalaveri/
LOCATION:Kunnanviraston valtuustosali\, Keskustie 9\, Pihtipudas\, 44800
CATEGORIES:Tapahtuma
ATTACH;FMTTYPE=image/png:https://visitpihtipudas.fi/wp-content/uploads/2026/04/267baf1e-942b-47fb-b41e-d385530406fc-1.png
END:VEVENT
END:VCALENDAR