BEGIN:VCALENDAR
VERSION:2.0
PRODID:-//Visit Pihtipudas - ECPv6.3.7//NONSGML v1.0//EN
CALSCALE:GREGORIAN
METHOD:PUBLISH
X-WR-CALNAME:Visit Pihtipudas
X-ORIGINAL-URL:https://visitpihtipudas.fi
X-WR-CALDESC:Tapahtumat Visit Pihtipudas
REFRESH-INTERVAL;VALUE=DURATION:PT1H
X-Robots-Tag:noindex
X-PUBLISHED-TTL:PT1H
BEGIN:VTIMEZONE
TZID:Europe/Helsinki
BEGIN:DAYLIGHT
TZOFFSETFROM:+0200
TZOFFSETTO:+0300
TZNAME:EEST
DTSTART:20260329T010000
END:DAYLIGHT
BEGIN:STANDARD
TZOFFSETFROM:+0300
TZOFFSETTO:+0200
TZNAME:EET
DTSTART:20261025T010000
END:STANDARD
END:VTIMEZONE
BEGIN:VEVENT
DTSTART;TZID=Europe/Helsinki:20260421T160000
DTEND;TZID=Europe/Helsinki:20260421T170000
DTSTAMP:20260421T125441
CREATED:20260210T120001Z
LAST-MODIFIED:20260210T120001Z
UID:14872-1776787200-1776790800@visitpihtipudas.fi
SUMMARY:Senioritanssi
DESCRIPTION:Harrasteryhmä kokoontuu Muurasjärven koulun liikuntasalissa tiistaisin klo 16-17. Senioritanssi sopii kaikille ikään ja tanssitaustaan katsomatta\, eikä erityisiä varusteita tarvita. Moni ryhmäläinen tanssii villasukilla! Senioritanssit pohjautuvat tanhuihin\, ja niitä tanssitaan esimerkiksi suljetussa piirissä\, paripiirissä\, parittain tai yksin. Paria et tarvitse\, sellainen löytyy paikan päältä. \nRyhmä on maksuton ja avoin kaikille\, joten voit tulla mukaan myös kesken kauden. Ota kuitenkin huomioon\, että jokaisella harjoituskerralla ei aloiteta uutta tanssia\, vaan harjoittelu etenee kerta kerralta. Voi siis vaatia hieman keskittymistä hypätä piiriin mukaan. Mahdotonta se ei kuitenkaan ole\, hyvällä huumorilla aina selviää!! Tarvittaessa kyyti Pihtiputaan keskustasta tai Alvajärveltä järjestyy. \nKevään harjoituspäivät ovat seuraavat: 10.2.\, 17.2.\, 3.3.\, 10.3.\, 17.3.\, 24.3.\, 31.3.\, 7.4.\, 14.4.\, 21.4.\, 28.4.\, 5.5.\, 12.5.\, 19.5. ja 26.5. \nLisätiedot Maaritilta puh. 040 667 3655
URL:https://visitpihtipudas.fi/tapahtuma/senioritanssi-10/
LOCATION:Antin halli\, Ristinmäentie 9\, Muurasjärvi\, 44880
CATEGORIES:Tapahtuma
ATTACH;FMTTYPE=image/jpeg:https://visitpihtipudas.fi/wp-content/uploads/2026/02/Senioritanssijat.jpg
ORGANIZER;CN="Maarit Vesterinen":MAILTO:maaritvesterinen10@gmail.com
END:VEVENT
BEGIN:VEVENT
DTSTART;TZID=Europe/Helsinki:20260421T160000
DTEND;TZID=Europe/Helsinki:20260421T200000
DTSTAMP:20260421T125441
CREATED:20260304T131252Z
LAST-MODIFIED:20260304T140742Z
UID:15345-1776787200-1776801600@visitpihtipudas.fi
SUMMARY:Opiston tapahtumaviikot: Voimaa\, tasapainoa ja liikkuvuutta ikääntymiseen ja Tanssin iloa tulevaan lavakauteen
DESCRIPTION:Pihtiputaan ja Viitasaaren kansalaisopiston ilmaiset tapahtumaviikot! Tule kokeilemaan! \nTi 21.4. \nKlo 16-17 Voimaa\, tasapainoa ja liikkuvuutta ikääntymiseen. Opettajana Aija Pasanen ja Jukka Suorsa. \nKlo 17-20 Tanssin iloa tulevaan lavakauteen= voit tulla tanssimaan koko ajaksi tai osaksi aikaa parin kanssa tai ilman. Opettajana Aija Pasanen ja Jukka Suorsa.
URL:https://visitpihtipudas.fi/tapahtuma/opiston-tapahtumaviikot-voimaa-tasapainoa-ja-liikkuvuutta-ikaantymiseen-ja-tanssin-iloa-tulevaan-lavakauteen/
LOCATION:Putaanvirran sali\, Koulutie 4\, Pihtipudas\, 44800
CATEGORIES:Tapahtuma
ATTACH;FMTTYPE=image/png:https://visitpihtipudas.fi/wp-content/uploads/2026/03/Kansalaisopiston-maksuttomat-liikuntaviikot-Putaanvirran-salissa.png
END:VEVENT
BEGIN:VEVENT
DTSTART;TZID=Europe/Helsinki:20260421T173000
DTEND;TZID=Europe/Helsinki:20260421T193000
DTSTAMP:20260421T125441
CREATED:20260331T103622Z
LAST-MODIFIED:20260331T103622Z
UID:16004-1776792600-1776799800@visitpihtipudas.fi
SUMMARY:Koko Suomen partioilta
DESCRIPTION:Koko Suomen partioiltaa vietetään partioviikolla. Tapahtumassa on mahdollisuus esimerkiksi kokeilla partioharrastusta tai muistella omaa partiohistoriaa. Paikalla on pientä tarjottavaa\, oma muki mukaan.\nTervetuloa muistelemaan menneitä ja kokemaan uutta! \n”Luvassa toimintapisteitä\, joissa pääsee mm. vasaroimaan sekä testaamaan nopeutta ja ensiaputaitoja.”\nKaikille avoin tapahtuma.
URL:https://visitpihtipudas.fi/tapahtuma/koko-suomen-partioilta-2/
LOCATION:Sallilan piha-alue\, PIHTIPUDAS\, 44800\, Suomi
CATEGORIES:Tapahtuma
ATTACH;FMTTYPE=image/jpeg:https://visitpihtipudas.fi/wp-content/uploads/2026/03/kokosuomenpartioilta26.jpeg
ORGANIZER;CN="Pihtiputaan Partiolaiset":MAILTO:pihtipudaspartio@gmail.com
END:VEVENT
BEGIN:VEVENT
DTSTART;TZID=Europe/Helsinki:20260421T190000
DTEND;TZID=Europe/Helsinki:20260421T210000
DTSTAMP:20260421T125441
CREATED:20260407T082250Z
LAST-MODIFIED:20260407T082250Z
UID:16138-1776798000-1776805200@visitpihtipudas.fi
SUMMARY:Bingo Kuvapirtti
DESCRIPTION:OstokorttiBingo joka tiistai
URL:https://visitpihtipudas.fi/tapahtuma/bingo-kuvapirtti-31/
LOCATION:Pihtiputaan Kuvapirtti/työväentalo\, Keskustie 11\, Pihtipudas\, 44800\, Finland
CATEGORIES:Tapahtuma
ATTACH;FMTTYPE=image/jpeg:https://visitpihtipudas.fi/wp-content/uploads/2026/04/bingomainos-2.jpg
ORGANIZER;CN="Pihtiputaan Demarit Ry":MAILTO:Aira.kylaniemi@gmail.com
END:VEVENT
END:VCALENDAR