BEGIN:VCALENDAR
VERSION:2.0
PRODID:-//Visit Pihtipudas - ECPv6.3.7//NONSGML v1.0//EN
CALSCALE:GREGORIAN
METHOD:PUBLISH
X-WR-CALNAME:Visit Pihtipudas
X-ORIGINAL-URL:https://visitpihtipudas.fi
X-WR-CALDESC:Tapahtumat Visit Pihtipudas
REFRESH-INTERVAL;VALUE=DURATION:PT1H
X-Robots-Tag:noindex
X-PUBLISHED-TTL:PT1H
BEGIN:VTIMEZONE
TZID:Europe/Helsinki
BEGIN:DAYLIGHT
TZOFFSETFROM:+0200
TZOFFSETTO:+0300
TZNAME:EEST
DTSTART:20260329T010000
END:DAYLIGHT
BEGIN:STANDARD
TZOFFSETFROM:+0300
TZOFFSETTO:+0200
TZNAME:EET
DTSTART:20261025T010000
END:STANDARD
END:VTIMEZONE
BEGIN:VEVENT
DTSTART;TZID=Europe/Helsinki:20260420T080000
DTEND;TZID=Europe/Helsinki:20260420T170000
DTSTAMP:20260420T024618
CREATED:20260216T121402Z
LAST-MODIFIED:20260216T121402Z
UID:14967-1776672000-1776704400@visitpihtipudas.fi
SUMMARY:Eläkkeensaajien kerho
DESCRIPTION:Kahvittelua\, infoa ajankohtaisista aiheista\, virkistävää yhdessä oloa\, arvontaa ym mukavaa.
URL:https://visitpihtipudas.fi/tapahtuma/elakkeensaajien-kerho-18/
LOCATION:Pihtiputaan työväentalo\, Keskustie 11\, Pihtipudas\, 44800
CATEGORIES:Tapahtuma
ATTACH;FMTTYPE=image/jpeg:https://visitpihtipudas.fi/wp-content/uploads/2026/02/2024-10-28-Yhteisoneulonnan-peitto-6-scaled.jpg
ORGANIZER;CN="Pihtiputaan El%C3%A4kkeensaajat":MAILTO:terttua.paananen@gmail.com
END:VEVENT
BEGIN:VEVENT
DTSTART;TZID=Europe/Helsinki:20260420T163000
DTEND;TZID=Europe/Helsinki:20260420T173000
DTSTAMP:20260420T024618
CREATED:20260304T131058Z
LAST-MODIFIED:20260304T140750Z
UID:15343-1776702600-1776706200@visitpihtipudas.fi
SUMMARY:Opiston tapahtumaviikot: Plus-Lavis
DESCRIPTION:Pihtiputaan ja Viitasaaren kansalaisopiston ilmaiset tapahtumaviikot! Tule kokeilemaan! \nTunnit Putaanvirran koulun salissa. \nMa 20.4. \nKlo 16.30-17.30 Plus-Lavis= Lavista tanssien pienillä käsipainoilla höystettynä. Voit tehdä tunnin myös ilman painoja. Opettajana Pirjo Laitinen
URL:https://visitpihtipudas.fi/tapahtuma/opiston-tapahtumaviikot-plus-lavis/
LOCATION:Putaanvirran sali\, Koulutie 4\, Pihtipudas\, 44800
CATEGORIES:Tapahtuma
ATTACH;FMTTYPE=image/png:https://visitpihtipudas.fi/wp-content/uploads/2026/03/Kansalaisopiston-maksuttomat-liikuntaviikot-Putaanvirran-salissa.png
END:VEVENT
END:VCALENDAR